BEGIN:VCALENDAR
VERSION:2.0
PRODID:-//Trial Slovenija - ECPv6.15.13//NONSGML v1.0//EN
CALSCALE:GREGORIAN
METHOD:PUBLISH
X-WR-CALNAME:Trial Slovenija
X-ORIGINAL-URL:https://slo-trial.si
X-WR-CALDESC:Dogodki za Trial Slovenija
REFRESH-INTERVAL;VALUE=DURATION:PT1H
X-Robots-Tag:noindex
X-PUBLISHED-TTL:PT1H
BEGIN:VTIMEZONE
TZID:Europe/Paris
BEGIN:DAYLIGHT
TZOFFSETFROM:+0100
TZOFFSETTO:+0200
TZNAME:CEST
DTSTART:20250330T010000
END:DAYLIGHT
BEGIN:STANDARD
TZOFFSETFROM:+0200
TZOFFSETTO:+0100
TZNAME:CET
DTSTART:20251026T010000
END:STANDARD
BEGIN:DAYLIGHT
TZOFFSETFROM:+0100
TZOFFSETTO:+0200
TZNAME:CEST
DTSTART:20260329T010000
END:DAYLIGHT
BEGIN:STANDARD
TZOFFSETFROM:+0200
TZOFFSETTO:+0100
TZNAME:CET
DTSTART:20261025T010000
END:STANDARD
BEGIN:DAYLIGHT
TZOFFSETFROM:+0100
TZOFFSETTO:+0200
TZNAME:CEST
DTSTART:20270328T010000
END:DAYLIGHT
BEGIN:STANDARD
TZOFFSETFROM:+0200
TZOFFSETTO:+0100
TZNAME:CET
DTSTART:20271031T010000
END:STANDARD
END:VTIMEZONE
BEGIN:VEVENT
DTSTART;TZID=Europe/Paris:20260423T160000
DTEND;TZID=Europe/Paris:20260423T180000
DTSTAMP:20260423T101212
CREATED:20260309T094355Z
LAST-MODIFIED:20260309T105015Z
UID:10000041-1776960000-1776967200@slo-trial.si
SUMMARY:Redni trening Ljubečna
DESCRIPTION:Redni trening v ZŠAM Celje – center varne vožnje Celje. \nDobrodošli vsi trialisti in tisti\, ki vas trial zanima ter bi radi poizkusili takšno vožnjo (po predhodnem dogovoru). \nUdeležbo na treningu javite Borutu. \nParkiranje je možno na parkirišču pred zapornico\, poligon za trial pa se nahaja na desnem zadnjem delu centra.
URL:https://slo-trial.si/index.php/dogodek/redni-trening-ljubecna/2026-04-23/
LOCATION:Ljubečna\, ZŠAM CELJE\, Cesta v Celje 14\, Ljubečna\, 3202\, Slovenia
CATEGORIES:Redni treningi
END:VEVENT
BEGIN:VEVENT
DTSTART;TZID=Europe/Paris:20260425T080000
DTEND;TZID=Europe/Paris:20260425T160000
DTSTAMP:20260423T101212
CREATED:20260212T112526Z
LAST-MODIFIED:20260212T113135Z
UID:10000005-1777104000-1777132800@slo-trial.si
SUMMARY:Državno prvenstvo Mačkovci
DESCRIPTION:1. tekma državnega prvenstva trial Slovenija v Mačkovcih (poligon ob motokros stezi v Mačkovcih) \nTekmujejo lahko tudi vozniki rekreativni vozniki brez licence. \nVeč informacij o časovnici in prijavi je na povezavi (poišči razdelek trial): \nhttps://www.amzs.si/sport/tekmovanja/koledar-in-tekmovanja-2026
URL:https://slo-trial.si/index.php/dogodek/drzavno-prvenstvo-mackovci/
LOCATION:Mačkovci\, Motokros Mačkovci\, Mačkovci\, 9202\, Slovenia
CATEGORIES:Tekmovanja
ORGANIZER;CN="AMD %C5%A0TEFAN KOVA%C4%8C":MAILTO:amd.stefan.kovac@siol.net
END:VEVENT
BEGIN:VEVENT
DTSTART;TZID=Europe/Paris:20260428T160000
DTEND;TZID=Europe/Paris:20260428T180000
DTSTAMP:20260423T101212
CREATED:20260309T094355Z
LAST-MODIFIED:20260309T105015Z
UID:10000042-1777392000-1777399200@slo-trial.si
SUMMARY:Redni trening Ljubečna
DESCRIPTION:Redni trening v ZŠAM Celje – center varne vožnje Celje. \nDobrodošli vsi trialisti in tisti\, ki vas trial zanima ter bi radi poizkusili takšno vožnjo (po predhodnem dogovoru). \nUdeležbo na treningu javite Borutu. \nParkiranje je možno na parkirišču pred zapornico\, poligon za trial pa se nahaja na desnem zadnjem delu centra.
URL:https://slo-trial.si/index.php/dogodek/redni-trening-ljubecna/2026-04-28/
LOCATION:Ljubečna\, ZŠAM CELJE\, Cesta v Celje 14\, Ljubečna\, 3202\, Slovenia
CATEGORIES:Redni treningi
END:VEVENT
BEGIN:VEVENT
DTSTART;TZID=Europe/Paris:20260430T160000
DTEND;TZID=Europe/Paris:20260430T180000
DTSTAMP:20260423T101212
CREATED:20260309T094355Z
LAST-MODIFIED:20260309T105015Z
UID:10000043-1777564800-1777572000@slo-trial.si
SUMMARY:Redni trening Ljubečna
DESCRIPTION:Redni trening v ZŠAM Celje – center varne vožnje Celje. \nDobrodošli vsi trialisti in tisti\, ki vas trial zanima ter bi radi poizkusili takšno vožnjo (po predhodnem dogovoru). \nUdeležbo na treningu javite Borutu. \nParkiranje je možno na parkirišču pred zapornico\, poligon za trial pa se nahaja na desnem zadnjem delu centra.
URL:https://slo-trial.si/index.php/dogodek/redni-trening-ljubecna/2026-04-30/
LOCATION:Ljubečna\, ZŠAM CELJE\, Cesta v Celje 14\, Ljubečna\, 3202\, Slovenia
CATEGORIES:Redni treningi
END:VEVENT
END:VCALENDAR