BEGIN:VCALENDAR
VERSION:2.0
PRODID:-//Trial Slovenija - ECPv6.15.13//NONSGML v1.0//EN
CALSCALE:GREGORIAN
METHOD:PUBLISH
X-WR-CALNAME:Trial Slovenija
X-ORIGINAL-URL:https://slo-trial.si
X-WR-CALDESC:Dogodki za Trial Slovenija
REFRESH-INTERVAL;VALUE=DURATION:PT1H
X-Robots-Tag:noindex
X-PUBLISHED-TTL:PT1H
BEGIN:VTIMEZONE
TZID:Europe/Paris
BEGIN:DAYLIGHT
TZOFFSETFROM:+0100
TZOFFSETTO:+0200
TZNAME:CEST
DTSTART:20250330T010000
END:DAYLIGHT
BEGIN:STANDARD
TZOFFSETFROM:+0200
TZOFFSETTO:+0100
TZNAME:CET
DTSTART:20251026T010000
END:STANDARD
BEGIN:DAYLIGHT
TZOFFSETFROM:+0100
TZOFFSETTO:+0200
TZNAME:CEST
DTSTART:20260329T010000
END:DAYLIGHT
BEGIN:STANDARD
TZOFFSETFROM:+0200
TZOFFSETTO:+0100
TZNAME:CET
DTSTART:20261025T010000
END:STANDARD
BEGIN:DAYLIGHT
TZOFFSETFROM:+0100
TZOFFSETTO:+0200
TZNAME:CEST
DTSTART:20270328T010000
END:DAYLIGHT
BEGIN:STANDARD
TZOFFSETFROM:+0200
TZOFFSETTO:+0100
TZNAME:CET
DTSTART:20271031T010000
END:STANDARD
END:VTIMEZONE
BEGIN:VEVENT
DTSTART;VALUE=DATE:20260515
DTEND;VALUE=DATE:20260518
DTSTAMP:20260423T154715
CREATED:20260218T212636Z
LAST-MODIFIED:20260218T233153Z
UID:7051-1778803200-1779062399@slo-trial.si
SUMMARY:FIM Trial World Championship Japan
DESCRIPTION:Svetovno prvenstvo v trialu Japonska \n2026 Round 1 Japan
URL:https://slo-trial.si/index.php/dogodek/fim-trial-world-championship-japan/
LOCATION:Mobility Resort Motegi\, Mobility Resort Motegi\, 120-1 Hiyama\,Motegi-machi\, Haga-gun\,\, Tochigii 321-3597\, Japan
CATEGORIES:Evropsko/svetovno prvenstvo
END:VEVENT
END:VCALENDAR