BEGIN:VCALENDAR
VERSION:2.0
PRODID:-//Trial Slovenija - ECPv6.15.13//NONSGML v1.0//EN
CALSCALE:GREGORIAN
METHOD:PUBLISH
X-WR-CALNAME:Trial Slovenija
X-ORIGINAL-URL:https://slo-trial.si
X-WR-CALDESC:Dogodki za Trial Slovenija
REFRESH-INTERVAL;VALUE=DURATION:PT1H
X-Robots-Tag:noindex
X-PUBLISHED-TTL:PT1H
BEGIN:VTIMEZONE
TZID:Europe/Paris
BEGIN:DAYLIGHT
TZOFFSETFROM:+0100
TZOFFSETTO:+0200
TZNAME:CEST
DTSTART:20250330T010000
END:DAYLIGHT
BEGIN:STANDARD
TZOFFSETFROM:+0200
TZOFFSETTO:+0100
TZNAME:CET
DTSTART:20251026T010000
END:STANDARD
BEGIN:DAYLIGHT
TZOFFSETFROM:+0100
TZOFFSETTO:+0200
TZNAME:CEST
DTSTART:20260329T010000
END:DAYLIGHT
BEGIN:STANDARD
TZOFFSETFROM:+0200
TZOFFSETTO:+0100
TZNAME:CET
DTSTART:20261025T010000
END:STANDARD
BEGIN:DAYLIGHT
TZOFFSETFROM:+0100
TZOFFSETTO:+0200
TZNAME:CEST
DTSTART:20270328T010000
END:DAYLIGHT
BEGIN:STANDARD
TZOFFSETFROM:+0200
TZOFFSETTO:+0100
TZNAME:CET
DTSTART:20271031T010000
END:STANDARD
END:VTIMEZONE
BEGIN:VEVENT
DTSTART;TZID=Europe/Paris:20260524T080000
DTEND;TZID=Europe/Paris:20260524T160000
DTSTAMP:20260423T212803
CREATED:20260212T114036Z
LAST-MODIFIED:20260316T110718Z
UID:10000006-1779609600-1779638400@slo-trial.si
SUMMARY:Državno prvenstvo Lukovica
DESCRIPTION:2. tekma državnega prvenstva Slovenije v trialu v Lukovici (poligon pri Avto Kveder\, kordinate: 46°10’06.2″N 14°41’37.5″E) \nTekmujejo lahko tudi rekreativni vozniki brez licence. \nVeč informacij o časovnici in prijavi je na povezavi (poišči razdelek trial): \nhttps://www.amzs.si/sport/tekmovanja/koledar-in-tekmovanja-2026
URL:https://slo-trial.si/index.php/dogodek/drzavno-prvenstvo-lukovica/
LOCATION:Lukovica\, 5M9V+8GP Lukovica\, Slovenia\, Lukovica\, Slovenia
CATEGORIES:Tekmovanja
ORGANIZER;CN="AMD Lukovica":MAILTO:info@amd-lukovica.si
END:VEVENT
END:VCALENDAR