BEGIN:VCALENDAR
VERSION:2.0
PRODID:-//Trial Slovenija - ECPv6.15.13//NONSGML v1.0//EN
CALSCALE:GREGORIAN
METHOD:PUBLISH
X-WR-CALNAME:Trial Slovenija
X-ORIGINAL-URL:https://slo-trial.si
X-WR-CALDESC:Dogodki za Trial Slovenija
REFRESH-INTERVAL;VALUE=DURATION:PT1H
X-Robots-Tag:noindex
X-PUBLISHED-TTL:PT1H
BEGIN:VTIMEZONE
TZID:Europe/Paris
BEGIN:DAYLIGHT
TZOFFSETFROM:+0100
TZOFFSETTO:+0200
TZNAME:CEST
DTSTART:20250330T010000
END:DAYLIGHT
BEGIN:STANDARD
TZOFFSETFROM:+0200
TZOFFSETTO:+0100
TZNAME:CET
DTSTART:20251026T010000
END:STANDARD
BEGIN:DAYLIGHT
TZOFFSETFROM:+0100
TZOFFSETTO:+0200
TZNAME:CEST
DTSTART:20260329T010000
END:DAYLIGHT
BEGIN:STANDARD
TZOFFSETFROM:+0200
TZOFFSETTO:+0100
TZNAME:CET
DTSTART:20261025T010000
END:STANDARD
BEGIN:DAYLIGHT
TZOFFSETFROM:+0100
TZOFFSETTO:+0200
TZNAME:CEST
DTSTART:20270328T010000
END:DAYLIGHT
BEGIN:STANDARD
TZOFFSETFROM:+0200
TZOFFSETTO:+0100
TZNAME:CET
DTSTART:20271031T010000
END:STANDARD
END:VTIMEZONE
BEGIN:VEVENT
DTSTART;TZID=Europe/Paris:20260516T080000
DTEND;TZID=Europe/Paris:20260516T080000
DTSTAMP:20260423T185447
CREATED:20260213T010312Z
LAST-MODIFIED:20260407T115206Z
UID:10000012-1778918400-1778918400@slo-trial.si
SUMMARY:Državno prvenstvo Jaska (HR)
DESCRIPTION:1. tekma državnega prvenstva Hrvaške in 2. tekma državnega prvenstva Slovenije v trialu v Jaski (stadion Mladina\, Lokošin Dol- Hrvaška) \nTekmujejo lahko tudi rekreativni vozniki brez licence. \nVeč informacij o časovnici in prijavi je na povezavi (poišči razdelek trial): \nhttps://www.amzs.si/sport/tekmovanja/koledar-in-tekmovanja-2026
URL:https://slo-trial.si/index.php/dogodek/drzavno-prvenstvo-jaska/
LOCATION:Stadion Mladina\, Jaska\, Mladina 76a\, Lokošin Dol\, 10450\, Croatia (Local Name: Hrvatska)
CATEGORIES:Tekmovanja
ORGANIZER;CN="MCK JASKA":MAILTO:/
END:VEVENT
END:VCALENDAR