BEGIN:VCALENDAR
VERSION:2.0
PRODID:-//Trial Slovenija - ECPv6.15.13//NONSGML v1.0//EN
CALSCALE:GREGORIAN
METHOD:PUBLISH
X-WR-CALNAME:Trial Slovenija
X-ORIGINAL-URL:https://slo-trial.si
X-WR-CALDESC:Dogodki za Trial Slovenija
REFRESH-INTERVAL;VALUE=DURATION:PT1H
X-Robots-Tag:noindex
X-PUBLISHED-TTL:PT1H
BEGIN:VTIMEZONE
TZID:Europe/Paris
BEGIN:DAYLIGHT
TZOFFSETFROM:+0100
TZOFFSETTO:+0200
TZNAME:CEST
DTSTART:20250330T010000
END:DAYLIGHT
BEGIN:STANDARD
TZOFFSETFROM:+0200
TZOFFSETTO:+0100
TZNAME:CET
DTSTART:20251026T010000
END:STANDARD
BEGIN:DAYLIGHT
TZOFFSETFROM:+0100
TZOFFSETTO:+0200
TZNAME:CEST
DTSTART:20260329T010000
END:DAYLIGHT
BEGIN:STANDARD
TZOFFSETFROM:+0200
TZOFFSETTO:+0100
TZNAME:CET
DTSTART:20261025T010000
END:STANDARD
BEGIN:DAYLIGHT
TZOFFSETFROM:+0100
TZOFFSETTO:+0200
TZNAME:CEST
DTSTART:20270328T010000
END:DAYLIGHT
BEGIN:STANDARD
TZOFFSETFROM:+0200
TZOFFSETTO:+0100
TZNAME:CET
DTSTART:20271031T010000
END:STANDARD
END:VTIMEZONE
BEGIN:VEVENT
DTSTART;VALUE=DATE:20260411
DTEND;VALUE=DATE:20260413
DTSTAMP:20260425T144824
CREATED:20260306T153424Z
LAST-MODIFIED:20260407T114721Z
UID:10000027-1775865600-1776038399@slo-trial.si
SUMMARY:Vikend trial trening Mačkovci
DESCRIPTION:Skupinski trening bo na poligonu ob motokros stezi Mačkovci v soboto in nedeljo 11-12.4.2026 od 10:00-15:00. \nDobrodošli vsi trialisti s svojim motociklom\, če pa bi radi trial prvič preizkusili se lahko v soboto 11.4.2026 udeležite predstavitvenega treninga ( https://www.amzs.si/sport/novice/2026-04-02-vabljeni-na-predstavitveni-trening-v-panogi-trial) \nUdeležba je brezplačna\, prijava ni potrebna.
URL:https://slo-trial.si/index.php/dogodek/trial-trening-in-predstavitveni-trening-mackovci-vikend/
LOCATION:Mačkovci\, Motokros Mačkovci\, Mačkovci\, 9202\, Slovenia
CATEGORIES:Skupinski treningi
ORGANIZER;CN="Ines":MAILTO:info@slo-trial.si
END:VEVENT
END:VCALENDAR