BEGIN:VCALENDAR
VERSION:2.0
PRODID:-//Trial Slovenija - ECPv6.15.13//NONSGML v1.0//EN
CALSCALE:GREGORIAN
METHOD:PUBLISH
X-ORIGINAL-URL:https://slo-trial.si
X-WR-CALDESC:Dogodki za Trial Slovenija
REFRESH-INTERVAL;VALUE=DURATION:PT1H
X-Robots-Tag:noindex
X-PUBLISHED-TTL:PT1H
BEGIN:VTIMEZONE
TZID:Europe/Paris
BEGIN:DAYLIGHT
TZOFFSETFROM:+0100
TZOFFSETTO:+0200
TZNAME:CEST
DTSTART:20250330T010000
END:DAYLIGHT
BEGIN:STANDARD
TZOFFSETFROM:+0200
TZOFFSETTO:+0100
TZNAME:CET
DTSTART:20251026T010000
END:STANDARD
BEGIN:DAYLIGHT
TZOFFSETFROM:+0100
TZOFFSETTO:+0200
TZNAME:CEST
DTSTART:20260329T010000
END:DAYLIGHT
BEGIN:STANDARD
TZOFFSETFROM:+0200
TZOFFSETTO:+0100
TZNAME:CET
DTSTART:20261025T010000
END:STANDARD
BEGIN:DAYLIGHT
TZOFFSETFROM:+0100
TZOFFSETTO:+0200
TZNAME:CEST
DTSTART:20270328T010000
END:DAYLIGHT
BEGIN:STANDARD
TZOFFSETFROM:+0200
TZOFFSETTO:+0100
TZNAME:CET
DTSTART:20271031T010000
END:STANDARD
END:VTIMEZONE
BEGIN:VEVENT
DTSTART;TZID=Europe/Paris:20260418T100000
DTEND;TZID=Europe/Paris:20260418T140000
DTSTAMP:20260423T143817
CREATED:20260416T204928Z
LAST-MODIFIED:20260416T204928Z
UID:10000100-1776506400-1776520800@slo-trial.si
SUMMARY:Trening Lukovica
DESCRIPTION:V soboto 18.4. ob 10ih prosti trening na poligonu pri Avto Kveder. Vabljeni vsi s svojimi trial motocikli!
URL:https://slo-trial.si/index.php/dogodek/trening-lukovica/
LOCATION:Lukovica\, 5M9V+8GP Lukovica\, Slovenia\, Lukovica\, Slovenia
CATEGORIES:Prosti trening
ORGANIZER;CN="Ines":MAILTO:info@slo-trial.si
END:VEVENT
END:VCALENDAR